Workbook

Sheet BALANCE GENERAL
B3: BALANCE GENERAL
B4: HOSPITAL PROVINCIAL SAN JOSE DE OCOA
B5: AL 28 DE FEBRERO DEL 2026
B6: (VALORES EN RD$)
D8: 2026
B9: ACTIVOS | C9: ANEXOS
B10: ACTIVOS CORRIENTES
B11: EFECTIVO CAJA Y BANCO | C11: 1
B12: DISPONIBILIDADES | C12: 2 | D12: ='ANEXO EST, DE RESULT. '!C48 -> 4051167.9
B13: CUENTAS Y DOCUMENTOS POR /C | C13: 3 | D13: 2862478.4
B14: INVENTARIOS DE MERCANCIAS | C14: 4
B15: INVENTARIO DE CONSUMO | C15: 5 | D15: ='ANEXOS BCE. GRAL.'!D22 -> 2173511.6
B16: OTROS ACTIVOS
B17: TOTAL ACTIVOS CORRIENTES | D17: =SUM(D11:D16) -> 9087157.8
B19: ACTIVOS NO CORRIENTES
B20: BIENES DE USO NETO | D20: 0
B21: BIENES INTANGIBLES | D21: 0
B22: OTROS ACTIVOS NO CORRIENTES
B23: TOTAL ACTIVOS NO CORRIENTES | D23: 0
B24: TOTAL ACTIVOS | D24: =D17 -> 9087157.8
B26: PASIVOS Y PATRIMONIO
B27: PASIVOS CORRIENTES
B28: DEDUCCIONES Y RETENCIONES POR PAGAR | C28: 3 | D28: ='ANEXOS BCE. GRAL.'!G30 -> 0
B29: CUENTAS POR PAGAR | C29: 4 | D29: 3132476.1
B30: OTRAS CUENTAS POR PAGAR | C30: 5 | D30: 0
B31: INTERESES POR PAGAR | C31: 6 | D31: 0
B32: COMISIONES A PAGAR | D32: 0
B33: TOTAL PASIVOS CORRIENTES | D33: =SUM(D28:D32) -> 3132476.1
B35: PASIVOS NO CORRIENTES
B36: PRESTAMOS INTERNOS A PAGAR A L. P. | D36: 0
B37: PRESTAMOS EXTERNOS A PAGAR A L. P. | D37: 0
B38: OTROS PASIVOS A PAGAR A L. PLAZO | D38: 0
B39: TOTAL PASIVOS NO CORRIENTES | D39: 0
B40: TOTAL PASIVOS | D40: =SUM(D36:D39) -> 0
B42: PATRIMONIO
B43: PATRIMONIO INSTITUCIONAL
B44: RESULTADO DE PERIODOS ANTERIORES | D44: =D33-D17 -> -5954681.7
B45: RESULTADO DEL PERIODO | D45: =RESULTADOS!D36 -> 1877656.3
B46: TOTAL PATRIMONIO | D46: =D43+D45 -> 1877656.3
B47: TOTAL PASIVOS Y PATRIMONIO | D47: =D33-D44 -> 9087157.8
...

Sheet RESULTADOS
B6: HOSPITAL PROVINCIAL SAN JOSE DE OCOA
B7: ESTADOS DE RESULTADOS
B8: AL 28 DE FEBRERO DEL 2026
B9: (VALORES EN RD$)
C11: ANEXOS | D11: 2026
B13: INGRESOS CORRIENTES
B14: TRANSFERENCIAS CORRIENTES RECIBIDAS:
B15: BALANCE INICIAL | C15: 1 | D15: 1790769.1
B16: FONDO OPERATIVO | C16: 2 | D16: ='ANEXO EST, DE RESULT. '!C31 -> 0
B17: TRANSFERENCIA DEL GOBIERNO CENTRAL | C17: 3 | D17: ='ANEXO EST, DE RESULT. '!C14 -> 1366251.6
B18: ARS PRIVADAS | C18: 4 | D18: ='ANEXO EST, DE RESULT. '!C47 -> 855297.08
B19: OTROS INGRESOS | C19: 5 | D19: ='ANEXO EST, DE RESULT. '!C27 -> 38850
B21: TOTAL DE INGRESOS | D21: =SUM(D15:D20) -> 4051167.9
B24: GASTOS CORRIENTES
B25: SERVICIOS PERSONALES (NOTA ) | D25: 115001.72
B26: SERVICIOS NO PERSONALES (NOTA ) | D26: 352075
B27: MATERIALES Y SUMINISTROS (NOTA) | D27: 1475909.6
B28: TRANSFERENCIAS AL GOBIERNO CENTRAL( NOTA )
B29: OTROS GASTOS INSTITUCIONALES (NOTA | D29: 226695.75
B30: CARGO BANCARIOS | D30: 3829.47
B31: TOTAL DE GASTOS | D31: =SUM(D25:D30) -> 2173511.6
B33: RESULTADO CORRIENTE DEL PERIODO
B34: DEPRECIACION Y AMORTIZACIONES | D34: 0
B36: RESULTADOS NETO DEL PERIODO | D36: =+D21-D31 -> 1877656.3
B43: DR. BASILIO GOMEZ
B44: DIRECTOR
B47: LIC. JOSE LUIS SOTO | C47: LICDA. MARIA DE R. CASADO MEJIA
B48: ADMINISTRADOR | C48: CONTADORA

Sheet ANEXOS BCE. GRAL.
D4: HOSPITAL PROVINCIAL SAN JOSE DE OCOA
B5: ANEXO A BALANCE GENERAL
B6: AL 28 DE FEBRERO DEL 2026
B7: (VALORES EN RD$)
B8: ANEXO 1
B9: DISPONIBILIDADES:
B10: NOMBRE CUENTAS | C10: NO. CUENTAS | D10: BALANCES
B11: VENTA DE SERVICIOS | C11: 130-104162-6 | D11: 1790769.1
B12: FONDO OPERATIVO | C12: 131-001332-0 | D12: 0
B13: TOTAL DISPONIBILIDAD | D13: =SUM(D11:D12) -> 1790769.1
B15: ANEXO 2
B16: INVENTARIO DE CONSUMO
B17: MEDICAM., MAT. MED. GAST. | D17: 82813.8
B18: OXIGENO Y REACTI. DE LAB. | D18: 622481.53
B19: PAPELERIA | D19: 59680
B20: ALIMENTOS | D20: 517149.83
B21: OTROS | D21: 891386.39
B22: TOTAL | D22: =SUM(D17:D21) -> 2173511.6
B24: ANEXO 3
B25: DEDUCCIONES Y RETENCIONES POR PAGAR
B26: NOMBRE CUENTAS | G26: TOTAL
B27: VENTA DE SERVICIOS
G30: =C27+C29+D27+D29+E27+E28 -> 0
B32: ANEXO 4
B33: CUENTAS POR PAGAR | C33: 3132476.1
B37: TOTAL | C37: =SUM(C34:C36) -> 0
C45: DR. BASILIO GOMEZ
C46: DIRECTOR
B49: LIC. JOSE LUIS SOTO | F49: LICDA. MARIA DE R. CASADO MEJIA
B50: ADMINISTRADOR | F50: CONTADORA

Sheet ANEXO EST, DE RESULT. 
A4: HOSPITAL PROVINCIAL SAN JOSE DE OCOA
A5: ANEXO A ESTADOS DE RESULTADOS
A6: AL 28 DE FEBRERO DEL 2026
A7: (VALORES EN RD$)
A9: ANEXO 1
A11: INGRESOS | B11: NO. CUENTAS | C11: MONTOS
A12: BALANCE INICIAL | B12: 130-104162-6 | C12: 1790769.1
A14: VENTAS DE SERVICIOS (SENASA) | B14: 130-104162-6 | C14: 1366251.6
A16: TOTAL | C16: =SUM(C12:C15) -> 3157020.8
A18: ANEXO 2
A19: OTROS INGRESOS
A20: ODONTOLOGIA SENASA | B20: 130-104162-6
A21: FEDERICO HENRIQUEZ Y CARVAJAL ( UFHEC) | B21: 130-104162-6
A22: OTRAS INSTITUCIONES PUBLICAS | B22: 130-104162-6
A23: ODONTOLOGIA PROPIA | B23: 130-104162-6 | C23: 7200
A24: CAFETERIA | B24: 130-104162-6 | C24: 3000
A25: ATENCION A PACIENTES EXTRANJEROS | B25: 130-104162-6 | C25: 28650
A26: OTROS INGRESOS | B26: 130-104162-6
A27: TOTAL | C27: =SUM(C20:C26) -> 38850
A29: ANEXO 3
A30: BALANCE INICIAL | B30: 131-001332-0 | C30: 0
A31: FONDO OPERATIVO | B31: 131-001332-0 | C31: 0
A32: TOTAL | C32: =SUM(C30:C31) -> 0
A34: ANEXO 4
A35: SENASA CONTRIBUTIVO | B35: 130-104162-6 | C35: 652168.08
A36: UNIVERSAL | B36: 130-104162-6 | C36: 4811
A37: ARS RESERVAS | B37: 130-104162-6 | C37: 6818.91
A38: ARS MONUMENTAL | B38: 130-104162-6 | C38: 54377.69
A39: ARS GMA | B39: 130-104162-6 | C39: 2199.33
A40: ARS CMD | B40: 130-104162-6 | C40: 544
A41: ABEL SEMMA | B41: 130-104162-6 | C41: 4236.75
A42: AMOR Y PAZ | B42: 130-104162-6 | C42: 589.29
A43: RENACER | B43: 130-104162-6 | C43: 3563.29
A44: ARS FUTURO | C44: 111407.92
A45: ARS PENSIONADOS Y JUBILADOS | C45: 12312.28
A46: ARS ABEL GONZALEZ | C46: 2268.54
A47: TOTAL | C47: =SUM(C35:C46) -> 855297.08
A48: TOTAL INGRESOS | C48: =SUM(C16,C27,C32,C47) -> 4051167.9
A53: DR. BASILIO GOMEZ
A54: DIRECTOR
...

Sheet Hoja1
